BEGIN:VCALENDAR
VERSION:2.0
PRODID:-//wp-events-plugin.com//7.2.3.1//EN
BEGIN:VEVENT
UID:211@lequaidespossibles.suce-sur-erdre.fr
DTSTART:20250512T160000Z
DTEND:20250512T180000Z
DTSTAMP:20250506T115730Z
URL:https://lequaidespossibles.suce-sur-erdre.fr/Evénements/voyage-velo-s
 olidaire-etape-au-quai-des-possibles
SUMMARY:Le projet BELOIAL'ZHEIMER fait étape au Quai des Possibles !
DESCRIPTION:Le projet BELOIAL'ZHEIMER fait étape au Quai des Possibles ! 
 Lundi 12 mai\, de 18h à 20h\nVenez rencontrer les fondatrices de l'associ
 ation Entr'aide dans la maison\, engagées dans un tour à vélo solidaire
  de plus de 1100 km pour sensibiliser à la maladie d'Alzheimer\, soutenir
  les aidants\, et faire connaître leur projet d’habitat partagé.\nElle
 s feront halte au Quai des Possibles\, pour partager leur expérience\, é
 changer autour de l'entraide\, de la culture comme soutien au quotidien\, 
 et de leur incroyable aventure humaine à vélo.\n\n\n 	Un moment fort en 
 émotions\, en solidarité et en inspiration !\n 	Entrée libre\, tout pub
 lic — venez nombreux !\n\nTout leur projet en détails ci dessous :\nC'e
 st Qui ?L’association Entr'aide dans la maison\, fondée en 2022 près d
 e Lorient par des couples touchés par la maladie d'Alzheimer. Elle vise 
 à créer un habitat partagé et inclusif\, tout en soutenant dès aujourd
 ’hui les familles à travers des activités culturelles (projet ARZ’HE
 IMER).\nLe projet BELOIAL'ZHEIMER\, c'est quoi  ?Un parcours solidaire à
  vélo du 7 au 30 mai 2025 pour :\n\n\n 	\nSensibiliser à la maladie d'Al
 zheimer et au rôle des aidants.\n\n 	\nCollecter des fonds via une cagnot
 te en ligne\, en vendant symboliquement les kilomètres parcourus.\n\n\nCo
 mment ?\n\n\n 	\n1142 km de Lorient à Roanne\, avec étapes dans plusieur
 s villes (Nantes\, Angers\, Orléans\, etc.).\n\n 	\nRéalisé par deux an
 ciennes aidantes\, fondatrices de l’association\, parfois rejointes par 
 d’autres participants.\n\n 	\nPrésentations\, échanges et sensibilisat
 ion tout au long du parcours.\n\n\nComment aider ?\n\n\n 	\nFaire un don e
 n ligne : lien HelloAsso\n\n 	\nRelayer l’initiative\, accueillir l’é
 quipe\, pédaler avec eux ou partager sur les réseaux.\n\n\nLe parcours :
 \nNous partirons de Lorient pour rejoindre Roanne\, dans la Loire. Pour ce
 la\, nous emprunterons d’abord le chemin de halage le long du Blavet\, p
 uis une portion du canal de Nantes à Brest entre Pontivy et Nantes. Ensui
 te\, nous longerons la Loire de Nantes jusqu’à Roanne.\n\n\n&nbsp\;
ATTACH;FMTTYPE=image/jpeg:https://lequaidespossibles.suce-sur-erdre.fr/wp-
 content/uploads/2025/05/POST-FACEBOOK-2025-05-06T135645.291.png
LOCATION:Tiers lieu - Le quai des possibles\, 1 place Jean Monnet\, SUCE SU
 R ERDRE\, Loire-Atlantique\, 44240\, France
X-APPLE-STRUCTURED-LOCATION;VALUE=URI;X-ADDRESS=1 place Jean Monnet\, SUCE 
 SUR ERDRE\, Loire-Atlantique\, 44240\, France;X-APPLE-RADIUS=100;X-TITLE=T
 iers lieu - Le quai des possibles:geo:0,0
END:VEVENT
END:VCALENDAR