BEGIN:VCALENDAR
VERSION:2.0
PRODID:-//wp-events-plugin.com//7.2.3.1//EN
BEGIN:VEVENT
UID:75@lequaidespossibles.suce-sur-erdre.fr
DTSTART:20250109T220000Z
DTEND:20250110T220000Z
DTSTAMP:20250103T160703Z
URL:https://lequaidespossibles.suce-sur-erdre.fr/Evénements/venue-de-lass
 ociation-le-c-a-r-sans-le-bus
SUMMARY:Venue de l'association le C.A.R (sans le bus!) - Jeux\, café papot
 age et médiation animale
DESCRIPTION:\n\n\nUn nouvel Espace de Vie Social se crée en Erdre &amp\; G
 esvres\, et ne cherchez pas à savoir où il se situe car c’est lui qui 
 vient à votre rencontre\, c’est le bien nommé le CAR pour Café Associ
 atif Roulant.\n\nCe nouveau dispositif itinérant\, porté par l’associa
 tion «  Les petits ruisseaux  »\, a pour objectif d’aller vers les h
 abitants\, pour plus d’équité\, pour dépasser les difficultés de mob
 ilité qui limitent les liens sur notre territoire pour tous les habitants
 \, pas seulement les plus fragiles\, les plus âgés ou isolés.\n\nAu cœ
 ur de ce projet innovant\, il y a bien sûr le café que l’on vient part
 ager\, mais il y a aussi le jeu\, le jeu de société ludique et convivial
 \, véritable créateur de liens. Concrètement le CAR va sillonner le ter
 ritoire\, et vous donne rendez-vous près de chez vous\, on y vient seul\,
  avec un ami\, entre voisins\, avec ses petits-enfants\, la porte du CAR e
 st ouverte à tous \; et comme dans tous les cafés\, on vient se rencontr
 er\, parler\, rire et jouer ensemble.\n\n\n\nLe bus a encore quelques amé
 nagements à faire avant de pouvoir rouler mais Emma et les bénévoles vi
 ennent à votre rencontre au tiers-lieu pour tout vous expliquer et venir 
 à votre rencontre avec de multiples activités sur ces journées de vendr
 edi et samedi.\n\nVendredi 10 janvier :\n15h30-18h30 au tiers lieu : Espac
 e ludique\, jeux de société et espace de motricité suivi d'un gouter et
  d'un échange sur le projet du CAR\nSamedi 11 janvier :\n10h-12h30 : Méd
 iation animale de 30 minutes \, balade avec Tempo et Laetitia. 3 départs 
 en balade pour 2 personnes au départ du tiers lieu.\n10h00-12h30 et 14h-1
 7h Café papotage et ateliers créatifs\, espace de découverte créative 
 libre : dessins\, collages\, origami ...\n\n\nPour qui ?\nTout le monde\, 
 les petits\, les grands\, la famille\, les copains et les grands parents !
 \n\nLe Rendez-vous\nRdv : au Quai des Possibles\n\nTarif\nGratuit\n\n\nIns
 cription\n\n- Sur inscription pour la médiation animale directement aupr
 ès de l'association du CAR via email : car@petitsruisseaux44.org ou par t
 éléphone au 07 44 74 65 37\n\n- Entrée libre pour les activités Jeux e
 t jouets ainsi que café papotage et ateliers créatifs\n\n\n\n
ATTACH;FMTTYPE=image/jpeg:https://lequaidespossibles.suce-sur-erdre.fr/wp-
 content/uploads/2024/07/POST-FACEBOOK-87.png
LOCATION:Tiers lieu - Le quai des possibles\, 1 place Jean Monnet\, SUCE SU
 R ERDRE\, Loire-Atlantique\, 44240\, France
X-APPLE-STRUCTURED-LOCATION;VALUE=URI;X-ADDRESS=1 place Jean Monnet\, SUCE 
 SUR ERDRE\, Loire-Atlantique\, 44240\, France;X-APPLE-RADIUS=100;X-TITLE=T
 iers lieu - Le quai des possibles:geo:0,0
END:VEVENT
END:VCALENDAR