BEGIN:VCALENDAR
VERSION:2.0
PRODID:-//wp-events-plugin.com//7.2.3.1//EN
BEGIN:VEVENT
UID:151@lequaidespossibles.suce-sur-erdre.fr
DTSTART:20250916T220000Z
DTEND:20250918T220000Z
DTSTAMP:20250515T153931Z
URL:https://lequaidespossibles.suce-sur-erdre.fr/Evénements/troc-vetement
 s-enfants-automne-2
SUMMARY:Troc vêtements enfants Automne
DESCRIPTION:Les Européens jettent en moyenne 11 kg de matières textiles
  par an\, ce qui correspond à 4 millions de tonnes jetées au total dan
 s l’Union européenne. Malheureusement\, 80 % de ces textiles finissen
 t dans la poubelle pour ordures ménagères et sont ensuite enfouis ou inc
 inérés.\n\nLa seconde main est une solution au problème et le Quai des 
 Possibles vous propose à chaque début de saison un Troc vêtements pour 
 vos enfants !\nComment ça marche ?\nApporter vos vêtements et repartez a
 vec des vêtements qui vous plaisent ! Pas de règle\, l'objectif est que 
 chacun.e trouve son compte :)\nLes Horaires d'ouverture pour le Troc ?\nMe
 rcredi : de 10h à 18h\n\nJeudi  : 14h à 19h\n\nvendredi : de 14h à 22h
 \, ouvert lors de la Ptite Guinguette\n\n100% GRATUIT - Entrée Libre
ATTACH;FMTTYPE=image/jpeg:https://lequaidespossibles.suce-sur-erdre.fr/wp-
 content/uploads/2024/06/POST-FACEBOOK-77.png
LOCATION:Tiers lieu - Le quai des possibles\, 1 place Jean Monnet\, SUCE SU
 R ERDRE\, Loire-Atlantique\, 44240\, France
X-APPLE-STRUCTURED-LOCATION;VALUE=URI;X-ADDRESS=1 place Jean Monnet\, SUCE 
 SUR ERDRE\, Loire-Atlantique\, 44240\, France;X-APPLE-RADIUS=100;X-TITLE=T
 iers lieu - Le quai des possibles:geo:0,0
END:VEVENT
END:VCALENDAR