BEGIN:VCALENDAR
VERSION:2.0
PRODID:-//wp-events-plugin.com//7.2.3.1//EN
BEGIN:VEVENT
UID:223@lequaidespossibles.suce-sur-erdre.fr
DTSTART:20251003T180000Z
DTEND:20251003T191500Z
DTSTAMP:20251001T092913Z
URL:https://lequaidespossibles.suce-sur-erdre.fr/Evénements/spectacle-dim
 pro-les-3-ptits-points-se-plient-en-4-2
SUMMARY:Spectacle d'impro "Les 3 p'tits points se plient en 4"
DESCRIPTION:La troupe les 3 p'tits points\, se plient en 4 pour nous faire 
 rire\, dédramatiser et apporter légèreté sur toutes nos thématiques d
 e transitions abordées au tiers lieu !\n\nDans un monde anxiogène\, le Q
 uai des Possibles sait que le rire est une valeur sûre. Un moment de lég
 èreté et de partage garanti .\n\nVenez découvrir ces trois comédiens q
 ui sauront vous faire voyager à travers des histoires poétiques\, loufoq
 ues\, décalées\, authentiques sous le signe de l’humour.\n\nVous leur 
 donnez des thèmes et leur imaginaire fera le reste.\n\nEt pour prolonger 
 le moment\, le Quai des Possibles vous propose d'apporter chacun et chacun
 .e un p'tit grignotage\, un plat ou un gâteau à partager à la fin du sp
 ectacle :)\n\nLaissez vous embarquer dans ce joli moment de partage.\nTari
 f :\nAu chapeau - Sur inscription\nPublic :\nTous les âges - Jauge max 30
  personnes
ATTACH;FMTTYPE=image/jpeg:https://lequaidespossibles.suce-sur-erdre.fr/wp-
 content/uploads/2024/12/POST-FACEBOOK-2024-12-12T175032.104.png
LOCATION:Tiers lieu - Le quai des possibles\, 1 place Jean Monnet\, SUCE SU
 R ERDRE\, Loire-Atlantique\, 44240\, France
X-APPLE-STRUCTURED-LOCATION;VALUE=URI;X-ADDRESS=1 place Jean Monnet\, SUCE 
 SUR ERDRE\, Loire-Atlantique\, 44240\, France;X-APPLE-RADIUS=100;X-TITLE=T
 iers lieu - Le quai des possibles:geo:0,0
END:VEVENT
END:VCALENDAR