BEGIN:VCALENDAR
VERSION:2.0
PRODID:-//wp-events-plugin.com//7.2.3.1//EN
BEGIN:VEVENT
UID:335@lequaidespossibles.suce-sur-erdre.fr
DTSTART:20260129T160000Z
DTEND:20260129T173000Z
DTSTAMP:20251218T163220Z
URL:https://lequaidespossibles.suce-sur-erdre.fr/Evénements/soiree-parole
 -aux-habitants-construisons-ensemble-la-programmation-2026
SUMMARY:Soirée « Parole aux Habitants » – Construisons ensemble la pro
 grammation 2026 !
DESCRIPTION:Soirée « Parole aux Habitants » – Construisons ensemble la
  programmation 2026 !\n\n\nLe Quai des Possibles vous invite à une soiré
 e d’échanges ouverte à tous les habitants\, associations et acteurs lo
 caux. Venez partager vos idées\, envies et propositions pour imaginer ens
 emble les projets qui feront vivre notre commune demain.\n\nNos 6 thèmes-
 boussoles guideront la réflexion :\n- Biodiversité\n- Intergénérationn
 el\n- Aller vers\n- Santé mentale\n- Alimentation durable\n- Accessibilit
 é\n\nNotre ambition ? Créer du lien\, tisser un véritable maillage sur 
 la commune et devenir l’« office du tourisme du citoyen »\, un lieu o
 ù chacun trouve sa place et contribue à la vie collective.\n\nVotre voix
  compte ! Rejoignez-nous pour co-construire une programmation riche de vos
  idées et de vos valeurs.\n\n\nEntrée libre - Gratuit\n\nOrganisé par l
 es bénvoles du Tiers lieu
ATTACH;FMTTYPE=image/jpeg:https://lequaidespossibles.suce-sur-erdre.fr/wp-
 content/uploads/2025/12/POST-FACEBOOK-2025-12-17T211334.103.png
LOCATION:Tiers lieu - Le quai des possibles\, 1 place Jean Monnet\, SUCE SU
 R ERDRE\, Loire-Atlantique\, 44240\, France
X-APPLE-STRUCTURED-LOCATION;VALUE=URI;X-ADDRESS=1 place Jean Monnet\, SUCE 
 SUR ERDRE\, Loire-Atlantique\, 44240\, France;X-APPLE-RADIUS=100;X-TITLE=T
 iers lieu - Le quai des possibles:geo:0,0
END:VEVENT
END:VCALENDAR