BEGIN:VCALENDAR
VERSION:2.0
PRODID:-//wp-events-plugin.com//7.2.3.1//EN
BEGIN:VEVENT
UID:361@lequaidespossibles.suce-sur-erdre.fr
DTSTART:20260624T120000Z
DTEND:20260624T140000Z
DTSTAMP:20251218T203648Z
URL:https://lequaidespossibles.suce-sur-erdre.fr/Evénements/lpo-tous-a-fo
 nd-sur-le-papillon
SUMMARY:LPO tous à fond sur le papillon !
DESCRIPTION:Sortie Nature : À la découverte des papillons avec la LPO\n\n
 \nPetit·es et grand·es\, partez à la rencontre des papillons qui virevo
 ltent au-dessus des prairies ! Équipé·es d’un filet\, apprenez à ide
 ntifier ces êtres délicats et découvrez leur rôle essentiel dans la bi
 odiversité.\n\nAnimé par la LPO\nRendez-vous : Plaine de Mazerolles\nGra
 tuit – sur inscription\nUne sortie ludique et pédagogique pour observer
 \, comprendre et préserver la nature !\n\n
ATTACH;FMTTYPE=image/jpeg:https://lequaidespossibles.suce-sur-erdre.fr/wp-
 content/uploads/2025/12/POST-FACEBOOK-2025-12-18T211650.162.png
LOCATION:https://www.google.fr/maps/place/Plaine+de+Mazerolles/@47.365392,-
 1.5054822,401m/data=!3m1!1e3!4m6!3m5!1s0x4805f74b3faf4f4f:0x82e3987ac897d5
 8f!8m2!3d47.3619444!4d-1.5013889!16s%2Fg%2F11b6ggfjpc?entry=ttu&g_ep=EgoyM
 DI1MTIwOS4wIKXMDSoASAFQAw%3D%3D
END:VEVENT
END:VCALENDAR