BEGIN:VCALENDAR
VERSION:2.0
PRODID:-//wp-events-plugin.com//7.2.3.1//EN
BEGIN:VEVENT
UID:359@lequaidespossibles.suce-sur-erdre.fr
DTSTART:20260415T080000Z
DTEND:20260415T100000Z
DTSTAMP:20251218T203237Z
URL:https://lequaidespossibles.suce-sur-erdre.fr/Evénements/lpo-les-appre
 ntis-ornithologues-en-balade
SUMMARY:LPO les apprentis ornithologues en balade
DESCRIPTION:\n\nSortie Ornithologie : À la découverte des oiseaux avec la
  LPO\n\n\nEnvie d’observer la nature autrement ? Participez à une balad
 e guidée pour débutants\, organisée par la Ligue pour la Protection des
  Oiseaux (LPO).\nAu programme :\n✔ Initiation à l’observation des ois
 eaux\n✔ Découverte des espèces locales et de leurs habitats\n✔ Conse
 ils pour reconnaître les chants et comportements\n\nUne sortie conviviale
  pour apprendre à regarder\, écouter et respecter la biodiversité !\n\n
 \n\nPour qui ?\nAdultes et enfants à partir de 8 ans\n\nLe Rendez-vous\nR
 dv : Plaine de Mazerolles\n\nTarif\nGRATUIT – Sur inscription
ATTACH;FMTTYPE=image/jpeg:https://lequaidespossibles.suce-sur-erdre.fr/wp-
 content/uploads/2025/12/POST-FACEBOOK-2025-12-18T210533.533.png
LOCATION:https://www.google.fr/maps/place/Plaine+de+Mazerolles/@47.365392,-
 1.5054822,401m/data=!3m1!1e3!4m6!3m5!1s0x4805f74b3faf4f4f:0x82e3987ac897d5
 8f!8m2!3d47.3619444!4d-1.5013889!16s%2Fg%2F11b6ggfjpc?entry=ttu&g_ep=EgoyM
 DI1MTIwOS4wIKXMDSoASAFQAw%3D%3D
END:VEVENT
END:VCALENDAR