BEGIN:VCALENDAR
VERSION:2.0
PRODID:-//wp-events-plugin.com//7.2.3.1//EN
BEGIN:VEVENT
UID:212@lequaidespossibles.suce-sur-erdre.fr
DTSTART:20250906T070000Z
DTEND:20250906T110000Z
DTSTAMP:20250515T150951Z
URL:https://lequaidespossibles.suce-sur-erdre.fr/Evénements/le-quai-des-p
 ossibles-au-forum-des-assos
SUMMARY:Le Quai des Possibles au Forum des assos
DESCRIPTION:Le Quai des Possibles sera présent au Forum des associations d
 e Sucé-sur-Erdre !Rendez-vous samedi 6 septembre dès 9h !\nEnvie de vous
  engager\, de participer à des projets citoyens\, solidaires ou écologiq
 ues près de chez vous ? Venez rencontrer l’équipe du Quai des Possible
 s au forum des assos ! On vous présentera nos actions\, nos événements 
 à venir\, et surtout toutes les façons de vous impliquer pour faire boug
 er les choses localement.\nQue vous soyez curieux\, déjà engagé ou just
 e de passage\, on a hâte d’échanger avec vous !\nGratuit - Entrée lib
 re
ATTACH;FMTTYPE=image/jpeg:https://lequaidespossibles.suce-sur-erdre.fr/wp-
 content/uploads/2025/05/POST-FACEBOOK-2025-05-15T170918.320.png
LOCATION:https://www.google.fr/maps/place/La+Papini%C3%A8re,+44240+Suc%C3%A
 9-sur-Erdre/@47.328624,-1.5329167,15z/data=!3m1!4b1!4m6!3m5!1s0x4805f0fda7
 0124b1:0x7e2ceb3287d333fb!8m2!3d47.328625!4d-1.522617!16s%2Fg%2F1tkv944w?e
 ntry=ttu&g_ep=EgoyMDI1MDUxMi4wIKXMDSoASAFQAw%3D%3D
END:VEVENT
END:VCALENDAR