BEGIN:VCALENDAR
VERSION:2.0
PRODID:-//wp-events-plugin.com//7.2.3.1//EN
BEGIN:VEVENT
UID:220@lequaidespossibles.suce-sur-erdre.fr
DTSTART:20250914T120000Z
DTEND:20250914T143000Z
DTSTAMP:20250818T083359Z
URL:https://lequaidespossibles.suce-sur-erdre.fr/Evénements/laprem-jeux-d
 e-societe-speciale-jeu-dambiance-autres-jeux
SUMMARY:L'aprem Jeux de société - Spéciale Jeu d'ambiance (& autres jeux
 )
DESCRIPTION:\nVenez passer un après-midi ludique au tiers-lieu !\nAprès l
 e succès du Loup- Géant\, rejoignez nous pour la seconde édition !\n\nT
 ous les trimestres\, le tiers-lieu ouvre ses portes un dimanche pour une s
 ession de jeux de société.\nCe mois-ci\, explorez les jeux d'ambiance\, 
 rapide à comprendre et qui assurent une bonne ambiance quelque soit l'âg
 e !\nIl y aura plein de jeux différents\, le principe est que chacun.e ap
 porte ses jeux et nous en aurons un stock d'avance.\nVenez avec des amis\,
  de la famille\, des voisin.es et votre bonne humeur !\nÀ noter que le 
 tiers lieu dispose d'une cuisine si vous avez envie de vous organiser un g
 outer :)\nTarif\nGratuit - sur inscription ou entrée libre\n\n\nJauge de 
 participant.es\n\n\n 	40 personnes -\n\nPublic concerné\nTous les âges !
 \n\n
ATTACH;FMTTYPE=image/jpeg:https://lequaidespossibles.suce-sur-erdre.fr/wp-
 content/uploads/2025/05/POST-FACEBOOK-2025-05-23T173721.604.png
LOCATION:Tiers lieu - Le quai des possibles\, 1 place Jean Monnet\, SUCE SU
 R ERDRE\, Loire-Atlantique\, 44240\, France
X-APPLE-STRUCTURED-LOCATION;VALUE=URI;X-ADDRESS=1 place Jean Monnet\, SUCE 
 SUR ERDRE\, Loire-Atlantique\, 44240\, France;X-APPLE-RADIUS=100;X-TITLE=T
 iers lieu - Le quai des possibles:geo:0,0
END:VEVENT
END:VCALENDAR