BEGIN:VCALENDAR
VERSION:2.0
PRODID:-//wp-events-plugin.com//7.2.3.1//EN
BEGIN:VEVENT
UID:207@lequaidespossibles.suce-sur-erdre.fr
DTSTART:20250502T073000Z
DTEND:20250502T100000Z
DTSTAMP:20250410T150653Z
URL:https://lequaidespossibles.suce-sur-erdre.fr/Evénements/inauguration-
 du-car-avec-la-conteuse-jacquotte-devant-le-quai-des-possibles
SUMMARY:Inauguration du CAR avec la conteuse Jacquo'tte devant le Quai des 
 Possibles
DESCRIPTION:\n\nLe CAR est enfin sur les routes !\n&nbsp\;\n\n\n\n\nUn nouv
 el Espace de Vie Social se crée en Erdre &amp\; Gesvres\, et ne cherchez 
 pas à savoir où il se situe car c’est lui qui vient à votre rencontre
 \, c’est le bien nommé le CAR pour Café Associatif Roulant.\n\nCe nouv
 eau dispositif itinérant\, porté par l’association «  Les petits rui
 sseaux  »\, a pour objectif d’aller vers les habitants\, pour plus d
 ’équité\, pour dépasser les difficultés de mobilité qui limitent le
 s liens sur notre territoire pour tous les habitants\, pas seulement les p
 lus fragiles\, les plus âgés ou isolés.\n\nAu cœur de ce projet innova
 nt\, il y a bien sûr le café que l’on vient partager\, mais il y a aus
 si le jeu\, le jeu de société ludique et convivial\, véritable créateu
 r de liens. Concrètement le CAR va sillonner le territoire\, et vous donn
 e rendez-vous près de chez vous\, on y vient seul\, avec un ami\, entre v
 oisins\, avec ses petits-enfants\, la porte du CAR est ouverte à tous \; 
 et comme dans tous les cafés\, on vient se rencontrer\, parler\, rire et 
 jouer ensemble.\n\n\n\nDu 1er au 3 mai\, le CAR fait son inauguration et p
 lusieurs animations sont organisées dans les différentes communes !\nIl 
 sera de passage à Sucé sur Erdre le 2 mai de 9h30 à 12h30 devant le Qua
 i des Possibles.\nIl sera accompagné de la conteuse JACOTTE et de sa roul
 otte :)\n\n\n\n\n(Photo créditée à Ouest-France)\n\n\n\nPour qui ?\nTou
 t le monde\, les petits\, les grands\, la famille\, les copains et les gra
 nds parents !\n\nLe Rendez-vous\nRdv : au Quai des Possibles\n\nGRATUIT 
 – Entrée libre\n
ATTACH;FMTTYPE=image/jpeg:https://lequaidespossibles.suce-sur-erdre.fr/wp-
 content/uploads/2025/04/A3-V03_inauguration-CAR_V03Vect-scaled.jpg
LOCATION:Tiers lieu - Le quai des possibles\, 1 place Jean Monnet\, SUCE SU
 R ERDRE\, Loire-Atlantique\, 44240\, France
X-APPLE-STRUCTURED-LOCATION;VALUE=URI;X-ADDRESS=1 place Jean Monnet\, SUCE 
 SUR ERDRE\, Loire-Atlantique\, 44240\, France;X-APPLE-RADIUS=100;X-TITLE=T
 iers lieu - Le quai des possibles:geo:0,0
END:VEVENT
END:VCALENDAR