BEGIN:VCALENDAR
VERSION:2.0
PRODID:-//wp-events-plugin.com//7.2.3.1//EN
BEGIN:VEVENT
UID:354@lequaidespossibles.suce-sur-erdre.fr
DTSTART:20260409T163000Z
DTEND:20260409T180000Z
DTSTAMP:20260327T152834Z
URL:https://lequaidespossibles.suce-sur-erdre.fr/Evénements/formation-com
 postage
SUMMARY:Formation compostage
DESCRIPTION:Epluchures de légumes\, restes de repas\, feuilles mortes… T
 ous ces déchets organiques peuvent être valorisés grâce au compostage.
 \n\nCela permet de réduire jusqu’à 1/3 de votre poubelle !\n\nParticip
 ez à cet atelier participatif de 2h et bénéficiez d’un composteur en 
 bois de 400L à seulement 20€.\n\nSur Inscription à l'opération une fo
 rmation / un composteur - Communauté de Communes d'Erdre &amp\; Gesvres\n
 \nFormation animée par les animateurs prévention des déchets de la CCEG
 \n\n&nbsp\;
ATTACH;FMTTYPE=image/jpeg:https://lequaidespossibles.suce-sur-erdre.fr/wp-
 content/uploads/2024/10/POST-FACEBOOK-30.png
LOCATION:Tiers lieu - Le quai des possibles\, 1 place Jean Monnet\, SUCE SU
 R ERDRE\, Loire-Atlantique\, 44240\, France
X-APPLE-STRUCTURED-LOCATION;VALUE=URI;X-ADDRESS=1 place Jean Monnet\, SUCE 
 SUR ERDRE\, Loire-Atlantique\, 44240\, France;X-APPLE-RADIUS=100;X-TITLE=T
 iers lieu - Le quai des possibles:geo:0,0
END:VEVENT
END:VCALENDAR