BEGIN:VCALENDAR
VERSION:2.0
PRODID:-//wp-events-plugin.com//7.2.3.1//EN
BEGIN:VEVENT
UID:222@lequaidespossibles.suce-sur-erdre.fr
DTSTART;VALUE=DATE:20251001
DTEND;VALUE=DATE:20251018
DTSTAMP:20250924T145207Z
URL:https://lequaidespossibles.suce-sur-erdre.fr/Evénements/exposition-le
 s-moulins-a-vent-et-a-eau-de-suce
SUMMARY:Exposition LES MOULINS à VENT et à EAU de SUCÉ
DESCRIPTION:Du grain à la farine : les moulins de Sucé-sur-Erdre à l’h
 onneurSaviez-vous qu’à Sucé-sur-Erdre\, les moulins à vent et à eau 
 jouaient autrefois un rôle central dans la vie quotidienne ?\nCette expos
 ition vous invite à remonter le fil du temps pour découvrir comment\, gr
 âce à la force du vent et de l’eau\, les céréales étaient transform
 ées en farine.\nÀ travers un ensemble de photographies\, plongez dans le
  fonctionnement de ces moulins ingénieux\, véritables précurseurs des 
 énergies renouvelables. Vous y découvrirez une démarche ancestrale à l
 a fois écologique\, locale et durable\, qui fait écho aux grands enjeux 
 de notre époque.\nUne exposition pour petits et grands\, entre histoire l
 ocale\, savoir-faire traditionnel et conscience écologique.\nEntrée libr
 e - Gratuit\nHoraires d'ouverture du 01 octobre au 17 octobre 2025\nMercre
 di 9h-12h30 / 14h-18h\nJeudi &amp\; vendredi  14h-18h\nOrganisé par l'as
 sociation Patrimoine et Histoire
ATTACH;FMTTYPE=image/jpeg:https://lequaidespossibles.suce-sur-erdre.fr/wp-
 content/uploads/2025/06/POST-FACEBOOK-2025-06-02T203953.130.png
END:VEVENT
END:VCALENDAR