BEGIN:VCALENDAR
VERSION:2.0
PRODID:-//wp-events-plugin.com//7.2.3.1//EN
BEGIN:VEVENT
UID:341@lequaidespossibles.suce-sur-erdre.fr
DTSTART:20260125T080000Z
DTEND:20260125T103000Z
DTSTAMP:20260113T151141Z
URL:https://lequaidespossibles.suce-sur-erdre.fr/Evénements/dimanche-recy
 clage-textile-stand-recyclage-vetement
SUMMARY:Dimanche Recyclage textile : Stand recyclage vêtement
DESCRIPTION:Laetitia\, l’animatrice du SMCNA proposera les activités sui
 vantes :\n\n 	Transformation d’un tee-shirt en sac sans coutures\,\n 	Ta
 washi\,\n 	Bobine trapilo\n 	Beewrap.\n\nIl n'y a rien à apporter\, Laeti
 tia prévoit le matériel et si besoin le Frip Kids Club pourra vous fourn
 ir de vieux vêtements de la boite à dons !\n\nRendez-vous :\n\n 	Dimanch
 e 25 janvier\n 	De 10h à 12h30\n 	Au Quai des Possibles\, Sucé-sur-Erdre
 \n\nGratuit - entrée libre
ATTACH;FMTTYPE=image/jpeg:https://lequaidespossibles.suce-sur-erdre.fr/wp-
 content/uploads/2026/01/dimanche-textile-resposnable.png
LOCATION:Tiers lieu - Le quai des possibles\, 1 place Jean Monnet\, SUCE SU
 R ERDRE\, Loire-Atlantique\, 44240\, France
X-APPLE-STRUCTURED-LOCATION;VALUE=URI;X-ADDRESS=1 place Jean Monnet\, SUCE 
 SUR ERDRE\, Loire-Atlantique\, 44240\, France;X-APPLE-RADIUS=100;X-TITLE=T
 iers lieu - Le quai des possibles:geo:0,0
END:VEVENT
END:VCALENDAR