BEGIN:VCALENDAR
VERSION:2.0
PRODID:-//wp-events-plugin.com//7.2.3.1//EN
BEGIN:VEVENT
UID:340@lequaidespossibles.suce-sur-erdre.fr
DTSTART:20260125T080000Z
DTEND:20260125T103000Z
DTSTAMP:20251217T220605Z
URL:https://lequaidespossibles.suce-sur-erdre.fr/Evénements/dimanche-recy
 clage-textile-stand-couture-avec-denise
SUMMARY:Dimanche Recyclage Textile – Stand Couture avec Denise
DESCRIPTION:Dimanche Recyclage Textile – Stand Couture avec Denise\n\n\nL
 ors de notre journée dédiée au recyclage textile\, Denise tiendra un st
 and pour échanger autour de vos projets couture. Vous souhaitez apprendre
  à coudre vos propres vêtements ou simplement découvrir par où commenc
 er ? Venez discuter avec elle !\n\nAu programme :\n- Conseils pour débute
 r en couture\n- Échanges d’idées et astuces\n- Présentation d’exemp
 les de vêtements réalisés\n\nSi cette rencontre vous inspire\, vous pou
 rrez ensuite rejoindre les ateliers couture du tiers-lieu pour vous lancer
  concrètement.\n\nUn moment pour apprendre\, partager et donner une secon
 de vie aux textiles !\n\n
ATTACH;FMTTYPE=image/jpeg:https://lequaidespossibles.suce-sur-erdre.fr/wp-
 content/uploads/2025/12/POST-FACEBOOK-2025-12-17T225729.260.png
LOCATION:Tiers lieu - Le quai des possibles\, 1 place Jean Monnet\, SUCE SU
 R ERDRE\, Loire-Atlantique\, 44240\, France
X-APPLE-STRUCTURED-LOCATION;VALUE=URI;X-ADDRESS=1 place Jean Monnet\, SUCE 
 SUR ERDRE\, Loire-Atlantique\, 44240\, France;X-APPLE-RADIUS=100;X-TITLE=T
 iers lieu - Le quai des possibles:geo:0,0
END:VEVENT
END:VCALENDAR