BEGIN:VCALENDAR
VERSION:2.0
PRODID:-//wp-events-plugin.com//7.2.3.1//EN
BEGIN:VEVENT
UID:343@lequaidespossibles.suce-sur-erdre.fr
DTSTART:20260319T170000Z
DTEND:20260319T190000Z
DTSTAMP:20260319T112019Z
URL:https://lequaidespossibles.suce-sur-erdre.fr/Evénements/de-la-terre-a
 -notre-sante-ce-quil-y-a-derriere-notre-alimentation
SUMMARY:ANNULEE : De la terre à notre santé : ce qu'il y a derrière notr
 e alimentation
DESCRIPTION:Faute de participants\, la conférence du 19 mars est malhereus
 ement annulée.\n&nbsp\;\n\nEt si ce que nous mettons dans nos assiettes i
 nfluençait bien plus que notre santé ?\n\nA travers une conférence inte
 ractive\, venez explorez les liens entre agriculture\, alimentation\, biod
 iversité et santé humaine.\n\nUne conférence vicvante\, participative e
 t accessible à toutes et tous\, pour mieux comprendre\, questionner et im
 aginer une alimentation qui prend soin du vivant.\n\n\nAu programme :\n✔
  19h- 20h30 La conf Quiz\n\n✔ 20h30 : poursuivns les échanges avec un r
 epas en mode auberge espagnole ! Apportez vos spécialités !\n\nGratuit 
 – sur inscription\nUn moment enrichissant pour réfléchir à nos habitu
 des et imaginer un avenir plus durable !\n\n\nAnimé par Franck Besnier de
  la Graine
ATTACH;FMTTYPE=image/jpeg:https://lequaidespossibles.suce-sur-erdre.fr/wp-
 content/uploads/2025/12/POST-FACEBOOK-2026-03-19T102248.106.png
LOCATION:Tiers lieu - Le quai des possibles\, 1 place Jean Monnet\, SUCE SU
 R ERDRE\, Loire-Atlantique\, 44240\, France
X-APPLE-STRUCTURED-LOCATION;VALUE=URI;X-ADDRESS=1 place Jean Monnet\, SUCE 
 SUR ERDRE\, Loire-Atlantique\, 44240\, France;X-APPLE-RADIUS=100;X-TITLE=T
 iers lieu - Le quai des possibles:geo:0,0
END:VEVENT
END:VCALENDAR