BEGIN:VCALENDAR
VERSION:2.0
PRODID:-//wp-events-plugin.com//7.2.3.1//EN
BEGIN:VEVENT
UID:208@lequaidespossibles.suce-sur-erdre.fr
DTSTART:20250619T163000Z
DTEND:20250619T180000Z
DTSTAMP:20250410T154426Z
URL:https://lequaidespossibles.suce-sur-erdre.fr/Evénements/conference-de
 s-plantes-carnivores-aux-araignees-les-habitants-mysterieux-de-la-tourbier
 e-de-logne
SUMMARY:Conférence Des plantes carnivores aux araignées : Les habitants m
 ystérieux de la tourbière de Logné
DESCRIPTION:Plongez au cœur d'un monde fascinant et méconnu !\nBretagne V
 ivante vous invite à une conférence captivante dédiée aux habitants my
 stérieux de la tourbière de Logné. Venez découvrir les stratégies de 
 survie étonnantes des plantes carnivores\, véritables pièges végétaux
  aux charmes insidieux. Laissez-vous ensuite surprendre par l'univers comp
 lexe et souvent mal compris des araignées\, prédatrices ingénieuses qui
  tissent leur toile dans cet écosystème unique.\nCette présentation ser
 a l'occasion d'explorer la biodiversité exceptionnelle de la tourbière d
 e Logné\, un milieu naturel fragile et précieux. Apprenez à reconnaîtr
 e ces espèces fascinantes\, comprenez leur rôle écologique essentiel et
  les enjeux de leur conservation.\nUne conférence enrichissante pour tous
  les curieux et curieuses de nature !\nAnimé par Bretagne Vivante\n\nGrat
 uit - sur inscription\n\nJauge : 30 maximum\n\nTranche d'âge : adultes\n\
 n&nbsp\;
ATTACH;FMTTYPE=image/jpeg:https://lequaidespossibles.suce-sur-erdre.fr/wp-
 content/uploads/2025/04/POST-FACEBOOK-2025-04-10T173540.382.png
LOCATION:Tiers lieu - Le quai des possibles\, 1 place Jean Monnet\, SUCE SU
 R ERDRE\, Loire-Atlantique\, 44240\, France
X-APPLE-STRUCTURED-LOCATION;VALUE=URI;X-ADDRESS=1 place Jean Monnet\, SUCE 
 SUR ERDRE\, Loire-Atlantique\, 44240\, France;X-APPLE-RADIUS=100;X-TITLE=T
 iers lieu - Le quai des possibles:geo:0,0
END:VEVENT
END:VCALENDAR