BEGIN:VCALENDAR
VERSION:2.0
PRODID:-//wp-events-plugin.com//7.2.3.1//EN
BEGIN:VEVENT
UID:214@lequaidespossibles.suce-sur-erdre.fr
DTSTART:20250924T163000Z
DTEND:20250924T183000Z
DTSTAMP:20250709T150757Z
URL:https://lequaidespossibles.suce-sur-erdre.fr/Evénements/circle-sound-
 le-chant-qui-se-cree-ensemble-meme-sans-etre-chanteur-ou-chanteuse
SUMMARY:Circlesong : le chant qui se crée ensemble (même sans être chant
 eur ou chanteuse)
DESCRIPTION:La pratique du circle song est une forme d’expression vocale 
 collective\, improvisée\, basée sur des boucles répétitives.\n\nElle c
 ombine chant spontané\, rythmes vocaux\, et écoute active dans un cadre 
 circulaire et bienveillant.\n\nElle s’inspire de traditions anciennes po
 pularisées par Bobby Mac Ferrin et de pratiques issues du développement
  personnel ou du chant thérapeutique.\nEn pratique\, le Circle Song\, c
 ’est :\n\n 	\nUn groupe de personnes en cercle\, guidé par une facilita
 trice.\n\n 	\nDes sons\, des rythmes ou des mélodies improvisées à part
 ir de la voix\, souvent sans paroles.\n\n 	\nUne construction progressive 
 d’un chant collectif vivant\, en plusieurs couches ( mélodies\, rythmes
 \, basses\, harmonie\n\n 	\nUn cadre d’écoute\, de lâcher-prise\, de c
 onnexion aux autres et à soi-même.\n\n 	\nUn espace où aucune compéten
 ce musicale n’est requise : tout le monde peut participer\, peu importe 
 son niveau.\n\n\nLes bienfaits :\n\n 	\nDévelopper la confiance en soi et
  en sa voix.\n\n 	\nStimuler la créativité et la spontanéité.\n\n 	\nC
 réer du lien et de la cohésion dans un groupe.\n\n 	\nSe reconnecter à 
 ses émotions et à son corps par le son.\n\n 	\nOffrir un moment de prés
 ence et de plaisir partagé.\n\n\nC’est une pratique très utilisée dan
 s des contextes artistiques\, pédagogiques\, thérapeutiques ou tout simp
 lement de bien-être collectif.\nCet atelier est animé par une habitante 
 Sucéenne qui souhaite faire découvrir cette pratique !\nGratuit - Sur in
 scription.
ATTACH;FMTTYPE=image/jpeg:https://lequaidespossibles.suce-sur-erdre.fr/wp-
 content/uploads/2025/05/POST-FACEBOOK-2025-07-08T114707.338.png
LOCATION:Tiers lieu - Le quai des possibles\, 1 place Jean Monnet\, SUCE SU
 R ERDRE\, Loire-Atlantique\, 44240\, France
X-APPLE-STRUCTURED-LOCATION;VALUE=URI;X-ADDRESS=1 place Jean Monnet\, SUCE 
 SUR ERDRE\, Loire-Atlantique\, 44240\, France;X-APPLE-RADIUS=100;X-TITLE=T
 iers lieu - Le quai des possibles:geo:0,0
END:VEVENT
END:VCALENDAR