BEGIN:VCALENDAR
VERSION:2.0
PRODID:-//wp-events-plugin.com//7.2.3.1//EN
BEGIN:VEVENT
UID:373@lequaidespossibles.suce-sur-erdre.fr
DTSTART:20260702T160000Z
DTEND:20260702T180000Z
DTSTAMP:20260224T093605Z
URL:https://lequaidespossibles.suce-sur-erdre.fr/Evénements/cine-debat-ed
 enn-a-la-decouverte-des-chauves-souris
SUMMARY:Ciné débat EDENN : A la découverte des chauves souris
DESCRIPTION:Depuis plus de vingt ans\, l’Entente pour le Développement d
 e l’Erdre Navigable et Naturelle (EDENN) anime la reconquête de la qual
 ité des eaux\, des milieux aquatiques et de la biodiversité de l’Erdre
 \, à l’échelle de son bassin versant.\n\nCet été\, dans la cadre de 
 la nuit de la chauve souris\, l'EDENN nous propose la projection d'un film
  intitulé "une vie de Grand de Rhinolophe" (49 min) qui vous invite à d
 écouvrir l'univers discret d'une fascinante espèce de chauves-souris" en
  Camargue". Cette projection sera suivi d'un temps d'échange avec l'anima
 teur du site Natura 2000 des Marais de l'Erdre.\n\nGRATUIT - Sur Inscripti
 on
ATTACH;FMTTYPE=image/jpeg:https://lequaidespossibles.suce-sur-erdre.fr/wp-
 content/uploads/2026/02/POST-FACEBOOK-2026-02-24T100351.868.png
LOCATION:Tiers lieu - Le quai des possibles\, 1 place Jean Monnet\, SUCE SU
 R ERDRE\, Loire-Atlantique\, 44240\, France
X-APPLE-STRUCTURED-LOCATION;VALUE=URI;X-ADDRESS=1 place Jean Monnet\, SUCE 
 SUR ERDRE\, Loire-Atlantique\, 44240\, France;X-APPLE-RADIUS=100;X-TITLE=T
 iers lieu - Le quai des possibles:geo:0,0
END:VEVENT
END:VCALENDAR