BEGIN:VCALENDAR
VERSION:2.0
PRODID:-//wp-events-plugin.com//7.2.3.1//EN
BEGIN:VEVENT
UID:209@lequaidespossibles.suce-sur-erdre.fr
DTSTART:20250616T120000Z
DTEND:20250616T150000Z
DTSTAMP:20250411T142035Z
URL:https://lequaidespossibles.suce-sur-erdre.fr/Evénements/cafe-tricot-c
 rochet
SUMMARY:Café tricot & crochet
DESCRIPTION:Tissons des liens\, maille après maille !\n&nbsp\;\n\nLe Quai 
 des Possibles vous invite à son après-midi café tricot et crochet inter
 générationnel.\n\nC'est l'occasion idéale pour rencontrer de nouvelles 
 personnes\, partager votre passion\, échanger des astuces et créer ensem
 ble\, autour d'une boisson chaude et de quelques pelotes.\n\nTous les âge
 s sont les bienvenus\n\nGRATUIT - Entrée libre
ATTACH;FMTTYPE=image/jpeg:https://lequaidespossibles.suce-sur-erdre.fr/wp-
 content/uploads/2025/04/POST-FACEBOOK-2025-04-10T175922.837.png
LOCATION:Tiers lieu - Le quai des possibles\, 1 place Jean Monnet\, SUCE SU
 R ERDRE\, Loire-Atlantique\, 44240\, France
X-APPLE-STRUCTURED-LOCATION;VALUE=URI;X-ADDRESS=1 place Jean Monnet\, SUCE 
 SUR ERDRE\, Loire-Atlantique\, 44240\, France;X-APPLE-RADIUS=100;X-TITLE=T
 iers lieu - Le quai des possibles:geo:0,0
END:VEVENT
END:VCALENDAR