BEGIN:VCALENDAR
VERSION:2.0
PRODID:-//wp-events-plugin.com//7.2.3.1//EN
BEGIN:VEVENT
UID:318@lequaidespossibles.suce-sur-erdre.fr
DTSTART:20260427T120000Z
DTEND:20260427T150000Z
DTSTAMP:20260410T132446Z
URL:https://lequaidespossibles.suce-sur-erdre.fr/Evénements/cafe-tricot-c
 rochet-9
SUMMARY:Reporté au 27.04. Café tricot & crochet
DESCRIPTION:Date reportée au 27 avril car initialement pendant les vacance
 s scolaires\n\nTissons des liens\, maille après maille !\nRécurrence tou
 s les 3ème lundis de chaque mois !\n\nLe Quai des Possibles vous invite 
 à son après-midi café tricot et crochet intergénérationnel.\n\nC'est 
 l'occasion idéale pour rencontrer de nouvelles personnes\, partager votre
  passion\, échanger des astuces et créer ensemble\, autour d'une boisson
  chaude et de quelques pelotes.\n\nTous les âges sont les bienvenus\n\nGR
 ATUIT - Entrée libre
ATTACH;FMTTYPE=image/jpeg:https://lequaidespossibles.suce-sur-erdre.fr/wp-
 content/uploads/2025/04/POST-FACEBOOK-2025-04-10T175922.837.png
LOCATION:Tiers lieu - Le quai des possibles\, 1 place Jean Monnet\, SUCE SU
 R ERDRE\, Loire-Atlantique\, 44240\, France
X-APPLE-STRUCTURED-LOCATION;VALUE=URI;X-ADDRESS=1 place Jean Monnet\, SUCE 
 SUR ERDRE\, Loire-Atlantique\, 44240\, France;X-APPLE-RADIUS=100;X-TITLE=T
 iers lieu - Le quai des possibles:geo:0,0
END:VEVENT
END:VCALENDAR