BEGIN:VCALENDAR
VERSION:2.0
PRODID:-//wp-events-plugin.com//7.2.3.1//EN
BEGIN:VEVENT
UID:317@lequaidespossibles.suce-sur-erdre.fr
DTSTART:20260316T120000Z
DTEND:20260316T150000Z
DTSTAMP:20251208T155644Z
URL:https://lequaidespossibles.suce-sur-erdre.fr/Evénements/cafe-tricot-c
 rochet-8
SUMMARY:Café tricot & crochet
DESCRIPTION:Tissons des liens\, maille après maille !\nRécurrence tous le
 s 3ème lundis de chaque mois !\n\nLe Quai des Possibles vous invite à so
 n après-midi café tricot et crochet intergénérationnel.\n\nC'est l'occ
 asion idéale pour rencontrer de nouvelles personnes\, partager votre pass
 ion\, échanger des astuces et créer ensemble\, autour d'une boisson chau
 de et de quelques pelotes.\n\nTous les âges sont les bienvenus\n\nGRATUIT
  - Entrée libre
ATTACH;FMTTYPE=image/jpeg:https://lequaidespossibles.suce-sur-erdre.fr/wp-
 content/uploads/2025/04/POST-FACEBOOK-2025-04-10T175922.837.png
LOCATION:Tiers lieu - Le quai des possibles\, 1 place Jean Monnet\, SUCE SU
 R ERDRE\, Loire-Atlantique\, 44240\, France
X-APPLE-STRUCTURED-LOCATION;VALUE=URI;X-ADDRESS=1 place Jean Monnet\, SUCE 
 SUR ERDRE\, Loire-Atlantique\, 44240\, France;X-APPLE-RADIUS=100;X-TITLE=T
 iers lieu - Le quai des possibles:geo:0,0
END:VEVENT
END:VCALENDAR