BEGIN:VCALENDAR
VERSION:2.0
PRODID:-//wp-events-plugin.com//7.2.3.1//EN
BEGIN:VEVENT
UID:213@lequaidespossibles.suce-sur-erdre.fr
DTSTART:20250913T083000Z
DTEND:20250913T100000Z
DTSTAMP:20250515T153240Z
URL:https://lequaidespossibles.suce-sur-erdre.fr/Evénements/atelier-revel
 e-tes-forces-un-socle-de-confiance-pour-une-rentree-scolaire-reussie
SUMMARY:Atelier Révèle tes forces – Un socle de confiance pour une rent
 rée scolaire réussie
DESCRIPTION:\n\n\n\n\n\nAtelier "Révèle tes forces" – Découvre ce qui 
 te rend unique !\n\nEnvie de mieux te connaître et de savoir ce dans quoi
  tu excelles ?\n\nRejoignez Anne\, coach pour une session interactive où 
 tu découvriras tes forces cachées\, grâce à des jeux interactifs\, des
  mises en situation et des échanges avec d’autres ados comme toi\, tu e
 xploreras tes talents et tes forces.\n\nTu repartiras avec une meilleure c
 onnaissance de toi et des pistes pour construire ta confiance en toi afin 
 de mettre toutes les chances de ton côté pour ton année scolaire.\n\nAn
 ne Gance vous attend pour vivre avec toi cette expérience.\n\n« Je ne pe
 rds jamais\, soit je gagne\, soit j’apprends »\n\n\n\n\n\n\nTarif\n5€
 \n\nInscription\nGroupe de 12 personnes max - inscription nécessaire\n\nT
 ranche d'âge\nAdolescente\n\nAnimé par Anne GANCE\, coach professionnell
 e.\n
ATTACH;FMTTYPE=image/jpeg:https://lequaidespossibles.suce-sur-erdre.fr/wp-
 content/uploads/2025/05/POST-FACEBOOK-2025-05-15T172056.363.png
LOCATION:Tiers lieu - Le quai des possibles\, 1 place Jean Monnet\, SUCE SU
 R ERDRE\, Loire-Atlantique\, 44240\, France
X-APPLE-STRUCTURED-LOCATION;VALUE=URI;X-ADDRESS=1 place Jean Monnet\, SUCE 
 SUR ERDRE\, Loire-Atlantique\, 44240\, France;X-APPLE-RADIUS=100;X-TITLE=T
 iers lieu - Le quai des possibles:geo:0,0
END:VEVENT
END:VCALENDAR