BEGIN:VCALENDAR
VERSION:2.0
PRODID:-//wp-events-plugin.com//7.2.3.1//EN
BEGIN:VEVENT
UID:210@lequaidespossibles.suce-sur-erdre.fr
DTSTART:20250616T160000Z
DTEND:20250616T173000Z
DTSTAMP:20250416T080855Z
URL:https://lequaidespossibles.suce-sur-erdre.fr/Evénements/atelier-refle
 xologie-feminine-retrouvez-lharmonie
SUMMARY:Atelier Réflexologie féminine\, retrouvez l'harmonie
DESCRIPTION:Atelier Do In : "Harmonie Féminine"\nObjectif de l'atelier :\n
 \nApporter des outils pratiques et naturels pour soulager les troubles fé
 minins (douleurs menstruelles\, syndrome prémenstruel\, fatigue\, déséq
 uilibres hormonaux\, etc.) grâce au Do In\, une technique d’auto-massag
 e issue de la médecine traditionnelle chinoise.\n\nInformations général
 es :\nDurée : 2h\nPublic cible : Femmes de tous âges (adolescentes\, adu
 ltes)\nNombre de participantes : 8 à 12 (pour une expérience conviviale 
 et personnalisée)\n\nMatériel nécessaire : \n\nTapis\, coussins\, plaid
  (pour le confort)\, tenue souple\n\nProgramme détaillé :\n1. Accueil et
  introduction\n- Présentation de l'atelier et du Do In.\n- Brève explica
 tion de l’impact de la circulation énergétique sur les troubles fémin
 ins selon la médecine chinoise (méridiens\, points d’acupression).\n- 
 Tour de table rapide pour connaître les attentes des participantes.\n\n2.
  Échauffement énergétique\n- Exercices de respiration consciente pour s
 e recentrer.\n- Mouvements doux pour relâcher les tensions (nuque\, épau
 les\, bassin).\n\n3. Auto-massages spécifiques\nFocus :\n- Douleurs menst
 ruelles : Stimulation des points autour du bas-ventre (Qi Hai\, Guan Yuan)
  et massage des méridiens du foie et de la rate.\n- Syndrome prémenstrue
 l et humeur : Travail sur le méridien du foie et des points situés sur l
 es mains et les pieds\n- Fatigue et déséquilibres hormonaux : Activation
  des points liés au méridien des reins et massages circulaires au niveau
  des lombaires.\n- Régulation générale : Étirements doux des méridien
 s pour harmoniser l’énergie globale.\n\n4. Relaxation et ancrage\n- Aut
 o-massage du visage pour apaiser l’esprit (points Yin Tang\, Tai Yang).\
 n- Méditation guidée pour favoriser la connexion avec son corps et lâch
 er prise.\n\n5. Échange et conclusion\n- Temps de partage : ressentis des
  participantes.\n- Conseils pour intégrer le Do In dans le quotidien (rou
 tine matinale\, cycle menstruel).\n- Conseils en micronutrition et en phyt
 othérapie.\n\nTarif et réservation : Sur Réservation - 5€\nPublic : A
 dultes
ATTACH;FMTTYPE=image/jpeg:https://lequaidespossibles.suce-sur-erdre.fr/wp-
 content/uploads/2025/04/POST-FACEBOOK-2025-04-16T095801.252.png
LOCATION:Tiers lieu - Le quai des possibles\, 1 place Jean Monnet\, SUCE SU
 R ERDRE\, Loire-Atlantique\, 44240\, France
X-APPLE-STRUCTURED-LOCATION;VALUE=URI;X-ADDRESS=1 place Jean Monnet\, SUCE 
 SUR ERDRE\, Loire-Atlantique\, 44240\, France;X-APPLE-RADIUS=100;X-TITLE=T
 iers lieu - Le quai des possibles:geo:0,0
END:VEVENT
END:VCALENDAR