BEGIN:VCALENDAR
VERSION:2.0
PRODID:-//wp-events-plugin.com//7.2.3.1//EN
BEGIN:VEVENT
UID:216@lequaidespossibles.suce-sur-erdre.fr
DTSTART:20250925T163000Z
DTEND:20250925T173000Z
DTSTAMP:20250924T172341Z
URL:https://lequaidespossibles.suce-sur-erdre.fr/Evénements/atelier-numer
 ique-responsable-comprendre-choisir-agir
SUMMARY:ANNULER : Atelier Numérique Responsable – Comprendre\, choisir\,
  agir
DESCRIPTION:Atelier Numérique Responsable – Comprendre\, choisir\, agir\
 n&nbsp\;\nAnnulé faute de participants\, sera reprogrammé sur la fin de 
 l'année.\n&nbsp\;\nOrdinateurs\, smartphones\, stockage en ligne\, résea
 ux sociaux… Le numérique est partout dans nos vies. Mais connais-tu son
  empreinte écologique ? Et sais-tu qu’il est possible d’adopter des p
 ratiques plus responsables\, sans renoncer à la technologie ?\nCet atelie
 r te propose de :\n\n\n 	\nDécouvrir les impacts environnementaux et soci
 aux du numérique (énergie\, pollution\, ressources\, etc.)\n\n 	\nCompre
 ndre les bons gestes pour prolonger la vie de ses appareils et réduire so
 n empreinte\n\n 	\nExplorer des alternatives concrètes : logiciels libres
 \, éco-conception\, tri des mails\, sobriété numérique…\n\n 	\nParta
 ger ses pratiques\, ses questions et repartir avec des astuces simples et 
 efficaces\n\n\nUn atelier accessible à tous\, pour faire un pas vers un n
 umérique plus conscient\, durable et solidaire.\nObjectif : ne plus subir
  le numérique\, mais le choisir en connaissance de cause !\nAnimé par  
 Arnoformatique // La sécurité informatique au quotidien | Arnoformatique
 \nGratuit - sur inscription
ATTACH;FMTTYPE=image/jpeg:https://lequaidespossibles.suce-sur-erdre.fr/wp-
 content/uploads/2025/05/POST-FACEBOOK-2025-09-24T165607.197.png
LOCATION:Tiers lieu - Le quai des possibles\, 1 place Jean Monnet\, SUCE SU
 R ERDRE\, Loire-Atlantique\, 44240\, France
X-APPLE-STRUCTURED-LOCATION;VALUE=URI;X-ADDRESS=1 place Jean Monnet\, SUCE 
 SUR ERDRE\, Loire-Atlantique\, 44240\, France;X-APPLE-RADIUS=100;X-TITLE=T
 iers lieu - Le quai des possibles:geo:0,0
END:VEVENT
END:VCALENDAR