BEGIN:VCALENDAR
VERSION:2.0
PRODID:-//wp-events-plugin.com//7.2.3.1//EN
BEGIN:VEVENT
UID:352@lequaidespossibles.suce-sur-erdre.fr
DTSTART:20260410T123000Z
DTEND:20260410T140000Z
DTSTAMP:20251218T181919Z
URL:https://lequaidespossibles.suce-sur-erdre.fr/Evénements/atelier-numer
 ique-naviguer-sur-you-tube
SUMMARY:Atelier Numérique : Naviguer sur YouTube
DESCRIPTION:Atelier Numérique : Naviguer sur YouTube\n\n\n\nOrganisé par 
 France Services\, cet atelier vous apprend à utiliser YouTube en toute si
 mplicité.\nAu programme :\n✔ Créer un compte et se connecter\n✔ Rech
 ercher des vidéos et s’abonner à des chaînes\n✔ Gérer l’historiq
 ue et les paramètres pour une navigation sécurisée\n\nGratuit – sur i
 nscription\nUn atelier pratique pour découvrir\, apprendre et profiter pl
 einement de YouTube !\n\n\nCet atelier est animé par Florian Rouaud\, con
 seiller numérique France Services.\n\nGRATUIT - Sur inscription :\n\n 	en
  ligne sur le site Le Quai des Possibles\n 	par téléphone auprès de Lau
 reline au 06 62 86 61 47\n
ATTACH;FMTTYPE=image/jpeg:https://lequaidespossibles.suce-sur-erdre.fr/wp-
 content/uploads/2025/12/POST-FACEBOOK-2025-12-18T191728.311.png
LOCATION:Tiers lieu - Le quai des possibles\, 1 place Jean Monnet\, SUCE SU
 R ERDRE\, Loire-Atlantique\, 44240\, France
X-APPLE-STRUCTURED-LOCATION;VALUE=URI;X-ADDRESS=1 place Jean Monnet\, SUCE 
 SUR ERDRE\, Loire-Atlantique\, 44240\, France;X-APPLE-RADIUS=100;X-TITLE=T
 iers lieu - Le quai des possibles:geo:0,0
END:VEVENT
END:VCALENDAR