BEGIN:VCALENDAR
VERSION:2.0
PRODID:-//wp-events-plugin.com//7.2.3.1//EN
BEGIN:VEVENT
UID:353@lequaidespossibles.suce-sur-erdre.fr
DTSTART:20260522T123000Z
DTEND:20260522T140000Z
DTSTAMP:20251218T182546Z
URL:https://lequaidespossibles.suce-sur-erdre.fr/Evénements/atelier-numer
 ique-decouverte-de-google-lens
SUMMARY:Atelier Numérique : Découverte de Google Lens
DESCRIPTION:Atelier Numérique : Découvrez Google Lens\n\n\nOrganisé par 
 France Services\, cet atelier vous initie à l’utilisation de Google Len
 s\, l’outil intelligent qui transforme votre appareil photo en assistant
  numérique.\nAu programme :\n✔ Identifier des objets\, plantes ou monum
 ents\n✔ Traduire du texte en temps réel\n✔ Scanner et rechercher des 
 informations à partir d’images\n\nGratuit – sur inscription\nUn ateli
 er pratique pour explorer toutes les possibilités de Google Lens et facil
 iter votre quotidien !\n\n\nCet atelier est animé par Florian Rouaud\, co
 nseiller numérique France Services.\n\nGRATUIT - Sur inscription :\n\n 	e
 n ligne sur le site Le Quai des Possibles\n 	par téléphone auprès de La
 ureline au 06 62 86 61 47\n
ATTACH;FMTTYPE=image/jpeg:https://lequaidespossibles.suce-sur-erdre.fr/wp-
 content/uploads/2025/12/POST-FACEBOOK-2025-12-18T192450.977.png
LOCATION:Tiers lieu - Le quai des possibles\, 1 place Jean Monnet\, SUCE SU
 R ERDRE\, Loire-Atlantique\, 44240\, France
X-APPLE-STRUCTURED-LOCATION;VALUE=URI;X-ADDRESS=1 place Jean Monnet\, SUCE 
 SUR ERDRE\, Loire-Atlantique\, 44240\, France;X-APPLE-RADIUS=100;X-TITLE=T
 iers lieu - Le quai des possibles:geo:0,0
END:VEVENT
END:VCALENDAR