BEGIN:VCALENDAR
VERSION:2.0
PRODID:-//wp-events-plugin.com//7.2.3.1//EN
BEGIN:VEVENT
UID:346@lequaidespossibles.suce-sur-erdre.fr
DTSTART:20260220T123000Z
DTEND:20260220T140000Z
DTSTAMP:20260105T133159Z
URL:https://lequaidespossibles.suce-sur-erdre.fr/Evénements/atelier-numer
 ique-debutant-gerez-votre-agenda-sur-smartphone
SUMMARY:Atelier Numérique Débutant : Gérez votre agenda sur smartphone
DESCRIPTION:Atelier Numérique Débutant : Gérez votre agenda sur smartpho
 ne\n\nCet atelier vous apprend à utiliser l’agenda de votre téléphone
  pour mieux organiser votre quotidien.\nAu programme :\n- Découverte des 
 fonctionnalités de l’agenda\n- Ajout et gestion de rendez-vous\n- Astuc
 es pour ne rien oublier\n\nCet atelier est animé par Florian Rouaud\, con
 seiller numérique France Services.\n\nGRATUIT - Sur inscription :\n\n 	en
  ligne sur le site Le Quai des Possibles\n 	par téléphone auprès de Lau
 reline au 06 62 86 61 47\n\nNiveau : Débutant
ATTACH;FMTTYPE=image/jpeg:https://lequaidespossibles.suce-sur-erdre.fr/wp-
 content/uploads/2025/12/POST-FACEBOOK-2025-12-18T174700.887.png
LOCATION:Tiers lieu - Le quai des possibles\, 1 place Jean Monnet\, SUCE SU
 R ERDRE\, Loire-Atlantique\, 44240\, France
X-APPLE-STRUCTURED-LOCATION;VALUE=URI;X-ADDRESS=1 place Jean Monnet\, SUCE 
 SUR ERDRE\, Loire-Atlantique\, 44240\, France;X-APPLE-RADIUS=100;X-TITLE=T
 iers lieu - Le quai des possibles:geo:0,0
END:VEVENT
END:VCALENDAR