BEGIN:VCALENDAR
VERSION:2.0
PRODID:-//wp-events-plugin.com//7.2.3.1//EN
BEGIN:VEVENT
UID:350@lequaidespossibles.suce-sur-erdre.fr
DTSTART:20260320T123000Z
DTEND:20260320T140000Z
DTSTAMP:20251218T175523Z
URL:https://lequaidespossibles.suce-sur-erdre.fr/Evénements/atelier-numer
 ique-bloquer-la-publicite-sur-internet
SUMMARY:Atelier Numérique : Bloquer la publicité sur internet
DESCRIPTION:Stop aux pubs envahissantes ! Apprenez à naviguer sur internet
  en toute sérénité.\nVous en avez assez des publicités qui interrompen
 t votre navigation ? Cet atelier vous permettra de :\n\n\n 	Comprendre le 
 fonctionnement de la publicité en ligne.\n 	Découvrir les différents ou
 tils pour bloquer les publicités.\n 	Configurer votre navigateur et vos a
 ppareils pour une expérience en ligne plus fluide.\n\nCet atelier est ani
 mé par Florian Rouaud\, conseiller numérique France Services.\n\nGRATUIT
  - Sur inscription :\n\n 	en ligne sur le site Le Quai des Possibles\n 	pa
 r téléphone auprès de Laureline au 06 62 86 61 47\n
ATTACH;FMTTYPE=image/jpeg:https://lequaidespossibles.suce-sur-erdre.fr/wp-
 content/uploads/2024/12/POST-FACEBOOK-2024-12-05T230604.408.png
END:VEVENT
END:VCALENDAR