BEGIN:VCALENDAR
VERSION:2.0
PRODID:-//wp-events-plugin.com//7.2.3.1//EN
BEGIN:VEVENT
UID:374@lequaidespossibles.suce-sur-erdre.fr
DTSTART:20260429T080000Z
DTEND:20260429T100000Z
DTSTAMP:20260302T102819Z
URL:https://lequaidespossibles.suce-sur-erdre.fr/Evénements/atelier-natur
 e-au-joli-bois-creation-dun-herbier
SUMMARY:Atelier Nature au Joli Bois : Création d’un Herbier 
DESCRIPTION:Atelier Nature au Joli Bois : Création d’un Herbier \n\n\nM
 ercredi 29 avril – 10h à 12h\n\nVenez partager un moment de découverte
  en famille au cœur du Joli Bois !\nLors de cet atelier\, enfants et pare
 nts partiront en exploration pour observer la nature\, reconnaître quelqu
 es plantes et ramasser délicatement feuilles et trésors végétaux.\n\nN
 ous créerons ensuite un herbier personnalisé : un joli souvenir à ramen
 er chez soi et une belle manière de mieux comprendre la richesse de notre
  environnement.\n\nUn rendez-vous ludique\, créatif et accessible à tous
  pour profiter ensemble de la beauté du printemps !\n\nGratuit - Sur insc
 ription\n\n
ATTACH;FMTTYPE=image/jpeg:https://lequaidespossibles.suce-sur-erdre.fr/wp-
 content/uploads/2026/03/POST-FACEBOOK-2026-03-02T112735.590.png
LOCATION:https://www.google.fr/maps/place/Pancarte+bienvenue+au+%C2%AB+joli
 +bois+%C2%BB/@47.3331076,-1.5227482,19.54z/data=!4m9!1m2!2m1!1spapini%C3%A
 8re!3m5!1s0x4805f10062876db9:0x89d564a7439feef4!8m2!3d47.333402!4d-1.52215
 46!16s%2Fg%2F11ywwj9kyd?entry=ttu&g_ep=EgoyMDI2MDIyNS4wIKXMDSoASAFQAw%3D%3
 D
END:VEVENT
END:VCALENDAR