BEGIN:VCALENDAR
VERSION:2.0
PRODID:-//wp-events-plugin.com//7.2.3.1//EN
BEGIN:VEVENT
UID:344@lequaidespossibles.suce-sur-erdre.fr
DTSTART:20260218T080000Z
DTEND:20260218T100000Z
DTSTAMP:20251218T142631Z
URL:https://lequaidespossibles.suce-sur-erdre.fr/Evénements/atelier-maqui
 llage-enfant-parent-2
SUMMARY:Atelier maquillage enfant - parent
DESCRIPTION:\n\nAtelier maquillage parent-enfant\n&nbsp\;\n\nPour fêter ma
 rdi gras\, le quai des possibles en profite pour créer un moment de compl
 icité parent – enfants ou grands – parents enfants pour un atelier ma
 quillage duo !\nUn moment complice et coloré à partager en duo !Guidé·
 es par une animatrice\, petits et grands s’initient ensemble à l’art 
 du maquillage festif : animaux\, super-héros\, motifs féeriques ou créa
 tions libres… chacun laisse parler sa créativité !Un atelier ludique p
 our jouer avec les couleurs\, échanger des pinceaux et repartir le sourir
 e maquillé.\n\n\n\nMercredi de 10h à 12h\n\n\nPour qui ?\nTout le monde\
 , les petits\, les grands\, la famille\, les copains et les grands parents
  !\n\nLe Rendez-vous\nRdv : au Quai des Possibles\n\nGRATUIT – Entrée l
 ibre\n
ATTACH;FMTTYPE=image/jpeg:https://lequaidespossibles.suce-sur-erdre.fr/wp-
 content/uploads/2025/06/POST-FACEBOOK-2025-06-05T184009.782.png
LOCATION:Tiers lieu - Le quai des possibles\, 1 place Jean Monnet\, SUCE SU
 R ERDRE\, Loire-Atlantique\, 44240\, France
X-APPLE-STRUCTURED-LOCATION;VALUE=URI;X-ADDRESS=1 place Jean Monnet\, SUCE 
 SUR ERDRE\, Loire-Atlantique\, 44240\, France;X-APPLE-RADIUS=100;X-TITLE=T
 iers lieu - Le quai des possibles:geo:0,0
END:VEVENT
END:VCALENDAR