BEGIN:VCALENDAR
VERSION:2.0
PRODID:-//wp-events-plugin.com//7.2.3.1//EN
BEGIN:VEVENT
UID:377@lequaidespossibles.suce-sur-erdre.fr
DTSTART:20260606T080000Z
DTEND:20260606T103000Z
DTSTAMP:20260306T160512Z
URL:https://lequaidespossibles.suce-sur-erdre.fr/Evénements/atelier-les-l
 oyautes-familiales-entre-appartenance-et-differenciation-comment-etre-soi-
 meme
SUMMARY:Atelier Les loyautés familiales : Entre appartenance et différenc
 iation\, comment être soi même ?
DESCRIPTION:Les loyautés familiales sont ces liens visibles et invisibles 
 qui nous relient à notre histoire\, à nos parents et à nos ancêtres. E
 lles influencent notre vision de la vie.\n\n&nbsp\;\n\nSi certaines sont n
 écessaire et bénéfiques\, d’autres\, au contraire\, nous enferment et
  nous limitent : que ce soit dans notre rapport à nous-mêmes\, aux autr
 es\, notre relation à l’argent\, au monde\, …\n\nCela pose la questio
 n : êtes-vous réellement libre de vos choix ? de vos décisions ? de 
 vos comportements ? Aimeriez-vous vous sentir plus libre dans votre vie
  ? plus libre d’être vous ?\n\nL’être humain est ainsi : il a à 
 la fois besoin d’être lui-même\, en acceptant sa différence\, et il a
  aussi besoin d’appartenir à un groupe. Comment trouver aujourd’hui c
 et équilibre qui vous correspondrait  ?\n\n&nbsp\;\n\nDans cet atelier\,
  vous découvrirez la manière dont les loyautés familiales influencent v
 os choix\, vos relations et votre identité.\n\nVous apprendrez à repére
 r où elles se manifestent concrètement dans votre vie personnelle\, prof
 essionnelle et affective.\n\nÀ travers des outils de réflexion et exerci
 ces pratiques\, chacun pourra mieux comprendre ce qui lui appartient… et
  ce qu’il porte pour les autres.\n\nUn espace bienveillant pour se libé
 rer de loyautés contraignantes et avancer vers une identité plus libre e
 t authentique.\n\n&nbsp\;\n\nCet atelier est présenté par Danièle Cocha
 rd\, orthophoniste retraitée passionnée par ce sujet\, et Kristell Dequi
 dt Picot\, Thérapeute (certifiée en Gestalt et Ecoute Ton Corps).\n\n&nb
 sp\;\n\nL’inscription est obligatoire - Prix libre\n\nAmenez papier &amp
 \; crayons : ils vous seront utiles pour les exercices pratiques.\n\n&nbs
 p\;\n\n&nbsp\;
ATTACH;FMTTYPE=image/jpeg:https://lequaidespossibles.suce-sur-erdre.fr/wp-
 content/uploads/2026/03/les-loyautes-familiales-4.png
LOCATION:Tiers lieu - Le quai des possibles\, 1 place Jean Monnet\, SUCE SU
 R ERDRE\, Loire-Atlantique\, 44240\, France
X-APPLE-STRUCTURED-LOCATION;VALUE=URI;X-ADDRESS=1 place Jean Monnet\, SUCE 
 SUR ERDRE\, Loire-Atlantique\, 44240\, France;X-APPLE-RADIUS=100;X-TITLE=T
 iers lieu - Le quai des possibles:geo:0,0
END:VEVENT
END:VCALENDAR