BEGIN:VCALENDAR
VERSION:2.0
PRODID:-//wp-events-plugin.com//7.2.3.1//EN
BEGIN:VEVENT
UID:225@lequaidespossibles.suce-sur-erdre.fr
DTSTART:20250628T080000Z
DTEND:20250628T100000Z
DTSTAMP:20250605T124216Z
URL:https://lequaidespossibles.suce-sur-erdre.fr/Evénements/atelier-inven
 tons-nos-vies-bas-carbone-3
SUMMARY:Atelier Inventons nos vies bas carbone
DESCRIPTION:\n\n\n\n\nUn atelier brûlant d’actualité\, participatif et 
 formateur\n\n\n\n\n\n\nUn atelier original pour connaître les ordres de g
 randeur essentiels et imaginer ensemble des actions nécessaires\, possibl
 es et désirables pour le climat.\nSi vous avez déjà fait la fresque du 
 climat\, cet atelier va vous faire du bien car vous allez parler solutions
  et actions possibles ! (la fresque climat n'est pas un pré-requis)\n\n\n
 \n\nTarif\nGratuit\n\nInscription\nGroupe de 14 personnes max - inscriptio
 n nécessaire\n\nTranche d'âge\nAdultes\n\nOrganisé par EVEAT (En-Vert-E
 t-Avec-Tous : https://www.en-vert-et-avec-tous.org/‌) avec l'animatrice 
 Marianne MORVAN
ATTACH;FMTTYPE=image/jpeg:https://lequaidespossibles.suce-sur-erdre.fr/wp-
 content/uploads/2024/08/POST-FACEBOOK-90.png
LOCATION:Tiers lieu - Le quai des possibles\, 1 place Jean Monnet\, SUCE SU
 R ERDRE\, Loire-Atlantique\, 44240\, France
X-APPLE-STRUCTURED-LOCATION;VALUE=URI;X-ADDRESS=1 place Jean Monnet\, SUCE 
 SUR ERDRE\, Loire-Atlantique\, 44240\, France;X-APPLE-RADIUS=100;X-TITLE=T
 iers lieu - Le quai des possibles:geo:0,0
END:VEVENT
END:VCALENDAR