BEGIN:VCALENDAR
VERSION:2.0
PRODID:-//wp-events-plugin.com//7.2.3.1//EN
BEGIN:VEVENT
UID:237@lequaidespossibles.suce-sur-erdre.fr
DTSTART:20251018T080000Z
DTEND:20251018T100000Z
DTSTAMP:20250612T140209Z
URL:https://lequaidespossibles.suce-sur-erdre.fr/Evénements/atelier-decou
 pe-laser-bois-cree-ton-objet-unique
SUMMARY:Atelier découpe laser bois – crée ton objet unique !
DESCRIPTION:Atelier découpe laser bois – crée ton objet unique !\nEnvie
  de découvrir la découpe laser tout en créant un objet personnalisé ? 
 Cet atelier est fait pour toi ! Que tu sois débutant·e ou curieux·se de
  fabrication numérique\, viens concevoir une décoration en bois original
 e : boule de Noël\, paire de boucles d’oreilles\, petit motif à suspen
 dre… à toi de choisir !\nDéroulé de l’atelier :– Création ou cho
 ix d’un modèle à découper– Découverte simple et accessible de la m
 achine de découpe laser– Préparation du fichier numérique– Lancemen
 t de la découpe et récupération des pièces– Ponçage\, finitions… 
 et ajout d’un système d’accroche !\nRepartez avec votre création en 
 bois\, faite main et unique !Accessible à tous – aucun prérequis - dè
 s 7 ans accompagné d'un adulteAu Quai des Possibles – matériel fourni\
 nTarif : Gratuit- sur inscription\nAnimé par Le labo de jeanne\nObjets d
 éco en bois - Le Labo de Jeanne
ATTACH;FMTTYPE=image/jpeg:https://lequaidespossibles.suce-sur-erdre.fr/wp-
 content/uploads/2025/06/POST-FACEBOOK-2025-06-02T212350.118.png
LOCATION:Tiers lieu - Le quai des possibles\, 1 place Jean Monnet\, SUCE SU
 R ERDRE\, Loire-Atlantique\, 44240\, France
X-APPLE-STRUCTURED-LOCATION;VALUE=URI;X-ADDRESS=1 place Jean Monnet\, SUCE 
 SUR ERDRE\, Loire-Atlantique\, 44240\, France;X-APPLE-RADIUS=100;X-TITLE=T
 iers lieu - Le quai des possibles:geo:0,0
END:VEVENT
END:VCALENDAR