BEGIN:VCALENDAR
VERSION:2.0
PRODID:-//wp-events-plugin.com//7.2.3.1//EN
BEGIN:VEVENT
UID:357@lequaidespossibles.suce-sur-erdre.fr
DTSTART:20260513T123000Z
DTEND:20260513T150000Z
DTSTAMP:20251218T194319Z
URL:https://lequaidespossibles.suce-sur-erdre.fr/Evénements/atelier-cuisi
 ne-ado-far-breton
SUMMARY:Atelier Cuisine Ado & + : Far Breton
DESCRIPTION:Nouveau format choisi par les ado !\n\nUne activité sans écra
 n\, non genrée\, qui plait à tout le monde : la cuisine est arrivée en 
 première dans leurs choix.\n\nChaque 2ᵉ mercredi après-midi du mois\, 
 les adolescent.es (11-14 ans) se retrouvent pour préparer ensemble une re
 cette de goûter\, puis la déguster.\n\n\nLes jeux de société et la PS4
  restent disponibles pour prolonger le moment.\n\nDans un esprit intergén
 érationnel\, les adultes intéressés par la cuisine peuvent également p
 articiper et partager leurs savoir-faire.\n\nGratuit – sur inscription.\
 n\n
ATTACH;FMTTYPE=image/jpeg:https://lequaidespossibles.suce-sur-erdre.fr/wp-
 content/uploads/2025/12/POST-FACEBOOK-2025-12-18T204258.918.png
LOCATION:Tiers lieu - Le quai des possibles\, 1 place Jean Monnet\, SUCE SU
 R ERDRE\, Loire-Atlantique\, 44240\, France
X-APPLE-STRUCTURED-LOCATION;VALUE=URI;X-ADDRESS=1 place Jean Monnet\, SUCE 
 SUR ERDRE\, Loire-Atlantique\, 44240\, France;X-APPLE-RADIUS=100;X-TITLE=T
 iers lieu - Le quai des possibles:geo:0,0
END:VEVENT
END:VCALENDAR