BEGIN:VCALENDAR
VERSION:2.0
PRODID:-//wp-events-plugin.com//7.2.3.1//EN
BEGIN:VEVENT
UID:342@lequaidespossibles.suce-sur-erdre.fr
DTSTART:20260211T170000Z
DTEND:20260211T190000Z
DTSTAMP:20251218T140918Z
URL:https://lequaidespossibles.suce-sur-erdre.fr/Evénements/atelier-coutu
 re-debutant-porte-plat
SUMMARY:Atelier couture débutant - Porte plat
DESCRIPTION:Atelier Couture Débutant : Rien ne se perd\, tout se transform
 e !\n\n\nEnvie de créer un accessoire pratique et personnalisé ? Venez a
 pprendre à coudre un sac porte-plat\, idéal pour transporter vos plats a
 vec style.\nApportez le tissu qui vous inspire\, votre machine à coudre\,
  et laissez-vous guider pas à pas par Denise dans la confection de votre 
 sac.\n\nGratuit – sur inscription\nUn moment convivial pour découvrir l
 a couture et repartir avec votre création unique !\n\n
ATTACH;FMTTYPE=image/jpeg:https://lequaidespossibles.suce-sur-erdre.fr/wp-
 content/uploads/2025/12/POST-FACEBOOK-2025-12-18T150809.659.png
LOCATION:Tiers lieu - Le quai des possibles\, 1 place Jean Monnet\, SUCE SU
 R ERDRE\, Loire-Atlantique\, 44240\, France
X-APPLE-STRUCTURED-LOCATION;VALUE=URI;X-ADDRESS=1 place Jean Monnet\, SUCE 
 SUR ERDRE\, Loire-Atlantique\, 44240\, France;X-APPLE-RADIUS=100;X-TITLE=T
 iers lieu - Le quai des possibles:geo:0,0
END:VEVENT
END:VCALENDAR