BEGIN:VCALENDAR
VERSION:2.0
PRODID:-//wp-events-plugin.com//7.2.3.1//EN
BEGIN:VEVENT
UID:368@lequaidespossibles.suce-sur-erdre.fr
DTSTART:20260325T170000Z
DTEND:20260325T190000Z
DTSTAMP:20260304T164604Z
URL:https://lequaidespossibles.suce-sur-erdre.fr/Evénements/atelier-coutu
 re-debutant-mon-premier-pantalon
SUMMARY:Atelier couture débutant - Pantalon ou sac
DESCRIPTION:Atelier Couture Débutant : Rien ne se perd\, tout se transform
 e !\n\n\n\nEnvie de créer votre toute première pièce cousue main ?\n\n\
 nParticipez à notre atelier pour apprendre à confectionner un premier pa
 ntalon simple ou un sac pratique\, selon votre envie du moment !\n\nApport
 ez le tissu qui vous inspire\, votre machine à coudre\, et laissez-vous g
 uider pas à pas par Denise dans la réalisation de votre projet.\n\nTissu
  nécessaire pantalon : 140 cm de large sur 180 de hauteur minimum\n\nGrat
 uit – sur inscription\nUn moment convivial pour découvrir la couture et
  repartir avec votre création unique\, qu’il s’agisse d’un pantalon
  confortable ou d’un sac personnalisé !\n\n\n\n
ATTACH;FMTTYPE=image/jpeg:https://lequaidespossibles.suce-sur-erdre.fr/wp-
 content/uploads/2026/02/POST-FACEBOOK-2026-03-04T173410.800.png
LOCATION:Tiers lieu - Le quai des possibles\, 1 place Jean Monnet\, SUCE SU
 R ERDRE\, Loire-Atlantique\, 44240\, France
X-APPLE-STRUCTURED-LOCATION;VALUE=URI;X-ADDRESS=1 place Jean Monnet\, SUCE 
 SUR ERDRE\, Loire-Atlantique\, 44240\, France;X-APPLE-RADIUS=100;X-TITLE=T
 iers lieu - Le quai des possibles:geo:0,0
END:VEVENT
END:VCALENDAR