BEGIN:VCALENDAR
VERSION:2.0
PRODID:-//wp-events-plugin.com//7.2.3.1//EN
BEGIN:VEVENT
UID:218@lequaidespossibles.suce-sur-erdre.fr
DTSTART:20250701T123000Z
DTEND:20250701T150000Z
DTSTAMP:20250630T145722Z
URL:https://lequaidespossibles.suce-sur-erdre.fr/Evénements/animations-ve
 lo-adapte-pour-les-seniors
SUMMARY:ANNULER !! Animations vélo adapté pour les seniors
DESCRIPTION:Compte tenu des fortes températures\, l'animation vélo est an
 nulée !\n&nbsp\;\n\nPour favoriser le bien-être et la santé des seniors
 \, la Communauté de communes Erdre &amp\; Gesvres et l'association Alisé
 e organisent 10 animations gratuites d'essai de vélos adaptés\, à Grand
 champ-des-Fontaines\, Nort-sur-Erdre\, Héric\, Vigneux-de-Bretagne\, Trei
 llières\, St-Mars-du-Desert\, Sucé-sur-Erdre\, Notre-Dame-des-Landes\, a
 ux Touches et à Fay-de-Bretagne.\n\nEn partenariat avec les CCAS\, EHPAD 
 et associations locales\, les personnes âgées pourront découvrir et ess
 ayer des vélos stables et confortables\, adaptés à toutes et tous : tri
 cycle classique ou assis\, vélo à assistance électrique classique ou à
  cadre abaissé pour faciliter l'enjambement\, tandem côte à côte pour 
 pédaler en toute convivialité\, vélo de transport ou encore vélo faute
 uil pour que celles et ceux ne pouvant pas pédaler puissent profiter du v
 ent dans les cheveux.\n\nAu-delà de ces animations ponctuelles financées
  dans le cadre de la démarche Tims pour une mobilité durable et inclusiv
 e en Erdre &amp\; Gesvres\, la CCEG souhaite proposer durablement une offr
 e vélo adapté sur le territoire\, grâce aux Fonds pour des territoires 
 innovants seniors\, dont elle est lauréate. Ces animations ont donc aussi
  vocation de concertation auprès des futurs bénéficiaires : participer\
 , c'est ainsi contribuer à l'élaboration d'une politique publique locale
  qui verra le jour à l'automne 2025.\n\nGratuit - entrée libre\n\nPour p
 lus d'information\, contactez le CCAS de Sucé :  02 40 77 70 20
ATTACH;FMTTYPE=image/jpeg:https://lequaidespossibles.suce-sur-erdre.fr/wp-
 content/uploads/2025/05/POST-FACEBOOK-2025-06-30T165643.436.png
LOCATION:Tiers lieu - Le quai des possibles\, 1 place Jean Monnet\, SUCE SU
 R ERDRE\, Loire-Atlantique\, 44240\, France
X-APPLE-STRUCTURED-LOCATION;VALUE=URI;X-ADDRESS=1 place Jean Monnet\, SUCE 
 SUR ERDRE\, Loire-Atlantique\, 44240\, France;X-APPLE-RADIUS=100;X-TITLE=T
 iers lieu - Le quai des possibles:geo:0,0
END:VEVENT
END:VCALENDAR